Package: CoGAPS Version: 3.26.0 Command: rm -rf CoGAPS.buildbin-libdir && mkdir CoGAPS.buildbin-libdir && F:\biocbuild\bbs-3.20-bioc\R\bin\R.exe CMD INSTALL --build --library=CoGAPS.buildbin-libdir CoGAPS_3.26.0.tar.gz StartedAt: 2025-02-11 08:12:15 -0500 (Tue, 11 Feb 2025) EndedAt: 2025-02-11 08:15:00 -0500 (Tue, 11 Feb 2025) EllapsedTime: 164.9 seconds RetCode: 0 Status: OK PackageFile: CoGAPS_3.26.0.zip PackageFileSize: 20.59 MiB