Package: CoGAPS Version: 3.26.0 Command: F:\biocbuild\bbs-3.20-bioc\R\bin\R.exe CMD INSTALL CoGAPS StartedAt: 2025-02-03 16:43:32 -0500 (Mon, 03 Feb 2025) EndedAt: 2025-02-03 16:46:25 -0500 (Mon, 03 Feb 2025) EllapsedTime: 173.5 seconds RetCode: 0 Status: OK