Package: CoGAPS Version: 3.26.0 Command: /home/biocbuild/R/R/bin/R CMD check --install=check:CoGAPS.install-out.txt --library=/home/biocbuild/R/R/site-library --no-vignettes --timings CoGAPS_3.26.0.tar.gz StartedAt: 2025-02-11 05:00:25 -0000 (Tue, 11 Feb 2025) EndedAt: 2025-02-11 05:05:32 -0000 (Tue, 11 Feb 2025) EllapsedTime: 307.3 seconds RetCode: 0 Status: OK CheckDir: CoGAPS.Rcheck Warnings: 0