Package: Cogito Version: 1.12.0 Command: /home/biocbuild/bbs-3.20-bioc/R/bin/R CMD INSTALL Cogito StartedAt: 2025-02-03 15:42:53 -0500 (Mon, 03 Feb 2025) EndedAt: 2025-02-03 15:43:34 -0500 (Mon, 03 Feb 2025) EllapsedTime: 40.8 seconds RetCode: 0 Status: OK