Package: Cogito Version: 1.12.0 Command: /home/biocbuild/R/R/bin/R CMD check --install=check:Cogito.install-out.txt --library=/home/biocbuild/R/R/site-library --no-vignettes --timings Cogito_1.12.0.tar.gz StartedAt: 2025-02-04 05:49:18 -0000 (Tue, 04 Feb 2025) EndedAt: 2025-02-04 05:54:42 -0000 (Tue, 04 Feb 2025) EllapsedTime: 324.3 seconds RetCode: 0 Status: OK CheckDir: Cogito.Rcheck Warnings: 0