Package: ComplexHeatmap Version: 2.22.0 Command: /Library/Frameworks/R.framework/Resources/bin/R CMD check --install=check:ComplexHeatmap.install-out.txt --library=/Library/Frameworks/R.framework/Resources/library --no-vignettes --timings ComplexHeatmap_2.22.0.tar.gz StartedAt: 2025-02-11 15:26:16 -0500 (Tue, 11 Feb 2025) EndedAt: 2025-02-11 15:31:43 -0500 (Tue, 11 Feb 2025) EllapsedTime: 326.9 seconds RetCode: 0 Status: OK CheckDir: ComplexHeatmap.Rcheck Warnings: 0