Package: ComplexHeatmap Version: 2.22.0 Command: /Library/Frameworks/R.framework/Resources/bin/R CMD INSTALL ComplexHeatmap StartedAt: 2025-02-03 16:18:18 -0500 (Mon, 03 Feb 2025) EndedAt: 2025-02-03 16:18:43 -0500 (Mon, 03 Feb 2025) EllapsedTime: 25.3 seconds RetCode: 0 Status: OK