Package: ComplexHeatmap Version: 2.22.0 Command: /Library/Frameworks/R.framework/Resources/bin/R CMD INSTALL ComplexHeatmap StartedAt: 2025-02-10 15:45:43 -0500 (Mon, 10 Feb 2025) EndedAt: 2025-02-10 15:46:35 -0500 (Mon, 10 Feb 2025) EllapsedTime: 51.9 seconds RetCode: 0 Status: OK