Package: ComplexHeatmap Version: 2.22.0 Command: /home/biocbuild/bbs-3.20-bioc/R/bin/R CMD build --keep-empty-dirs --no-resave-data --md5 ComplexHeatmap StartedAt: 2025-02-03 16:56:29 -0500 (Mon, 03 Feb 2025) EndedAt: 2025-02-03 16:56:59 -0500 (Mon, 03 Feb 2025) EllapsedTime: 30.0 seconds RetCode: 0 Status: OK PackageFile: ComplexHeatmap_2.22.0.tar.gz PackageFileSize: 1.404 MiB