Package: ComplexHeatmap Version: 2.22.0 Command: /home/biocbuild/bbs-3.20-bioc/R/bin/R CMD check --install=check:ComplexHeatmap.install-out.txt --library=/home/biocbuild/bbs-3.20-bioc/R/site-library --timings ComplexHeatmap_2.22.0.tar.gz StartedAt: 2025-02-10 21:05:52 -0500 (Mon, 10 Feb 2025) EndedAt: 2025-02-10 21:10:56 -0500 (Mon, 10 Feb 2025) EllapsedTime: 304.3 seconds RetCode: 0 Status: OK CheckDir: ComplexHeatmap.Rcheck Warnings: 0