Package: ComplexHeatmap Version: 2.22.0 Command: /home/biocbuild/bbs-3.20-bioc/R/bin/R CMD INSTALL ComplexHeatmap StartedAt: 2025-02-03 15:34:45 -0500 (Mon, 03 Feb 2025) EndedAt: 2025-02-03 15:35:06 -0500 (Mon, 03 Feb 2025) EllapsedTime: 21.5 seconds RetCode: 0 Status: OK