Package: ComplexHeatmap Version: 2.22.0 Command: rm -rf ComplexHeatmap.buildbin-libdir && mkdir ComplexHeatmap.buildbin-libdir && F:\biocbuild\bbs-3.20-bioc\R\bin\R.exe CMD INSTALL --build --library=ComplexHeatmap.buildbin-libdir ComplexHeatmap_2.22.0.tar.gz StartedAt: 2025-02-04 08:15:16 -0500 (Tue, 04 Feb 2025) EndedAt: 2025-02-04 08:22:44 -0500 (Tue, 04 Feb 2025) EllapsedTime: 447.8 seconds RetCode: 0 Status: OK PackageFile: ComplexHeatmap_2.22.0.zip PackageFileSize: 2.981 MiB