Package: ComplexHeatmap Version: 2.22.0 Command: chmod a+r ComplexHeatmap -R && F:\biocbuild\bbs-3.20-bioc\R\bin\R.exe CMD build --keep-empty-dirs --no-resave-data ComplexHeatmap StartedAt: 2025-02-03 18:17:57 -0500 (Mon, 03 Feb 2025) EndedAt: 2025-02-03 18:22:38 -0500 (Mon, 03 Feb 2025) EllapsedTime: 281.4 seconds RetCode: 0 Status: OK PackageFile: ComplexHeatmap_2.22.0.tar.gz PackageFileSize: 1.376 MiB