Package: ComplexHeatmap Version: 2.22.0 Command: /home/biocbuild/R/R/bin/R CMD build --keep-empty-dirs --no-resave-data ComplexHeatmap StartedAt: 2025-02-03 22:46:35 -0000 (Mon, 03 Feb 2025) EndedAt: 2025-02-03 22:47:17 -0000 (Mon, 03 Feb 2025) EllapsedTime: 42.0 seconds RetCode: 0 Status: OK PackageFile: ComplexHeatmap_2.22.0.tar.gz PackageFileSize: 1.363 MiB