Package: CompoundDb Version: 1.10.0 Command: /Library/Frameworks/R.framework/Resources/bin/R CMD build --keep-empty-dirs --no-resave-data CompoundDb StartedAt: 2025-02-03 18:03:42 -0500 (Mon, 03 Feb 2025) EndedAt: 2025-02-03 18:05:09 -0500 (Mon, 03 Feb 2025) EllapsedTime: 87.2 seconds RetCode: 0 Status: OK PackageFile: CompoundDb_1.10.0.tar.gz PackageFileSize: 1.299 MiB