Package: CompoundDb Version: 1.10.0 Command: /Library/Frameworks/R.framework/Resources/bin/R CMD check --install=check:CompoundDb.install-out.txt --library=/Library/Frameworks/R.framework/Resources/library --no-vignettes --timings CompoundDb_1.10.0.tar.gz StartedAt: 2025-02-11 01:32:47 -0500 (Tue, 11 Feb 2025) EndedAt: 2025-02-11 01:38:31 -0500 (Tue, 11 Feb 2025) EllapsedTime: 343.6 seconds RetCode: 0 Status: OK CheckDir: CompoundDb.Rcheck Warnings: 0