Package: CompoundDb Version: 1.10.0 Command: /Library/Frameworks/R.framework/Resources/bin/R CMD INSTALL CompoundDb StartedAt: 2025-02-10 16:32:18 -0500 (Mon, 10 Feb 2025) EndedAt: 2025-02-10 16:33:07 -0500 (Mon, 10 Feb 2025) EllapsedTime: 48.5 seconds RetCode: 0 Status: OK