Package: CompoundDb Version: 1.10.0 Command: chmod a+r CompoundDb -R && F:\biocbuild\bbs-3.20-bioc\R\bin\R.exe CMD build --keep-empty-dirs --no-resave-data CompoundDb StartedAt: 2025-02-03 18:18:02 -0500 (Mon, 03 Feb 2025) EndedAt: 2025-02-03 18:20:33 -0500 (Mon, 03 Feb 2025) EllapsedTime: 150.2 seconds RetCode: 0 Status: OK PackageFile: CompoundDb_1.10.0.tar.gz PackageFileSize: 1.3 MiB