Package: CompoundDb Version: 1.10.0 Command: /home/biocbuild/R/R/bin/R CMD build --keep-empty-dirs --no-resave-data CompoundDb StartedAt: 2025-02-10 22:36:03 -0000 (Mon, 10 Feb 2025) EndedAt: 2025-02-10 22:36:49 -0000 (Mon, 10 Feb 2025) EllapsedTime: 45.0 seconds RetCode: 0 Status: OK PackageFile: CompoundDb_1.10.0.tar.gz PackageFileSize: 1.428 MiB