Package: CompoundDb Version: 1.10.0 Command: /home/biocbuild/R/R/bin/R CMD INSTALL CompoundDb StartedAt: 2025-02-03 21:17:27 -0000 (Mon, 03 Feb 2025) EndedAt: 2025-02-03 21:17:54 -0000 (Mon, 03 Feb 2025) EllapsedTime: 26.8 seconds RetCode: 0 Status: OK