Package: CopyNumberPlots Version: 1.22.0 Command: /home/biocbuild/bbs-3.20-bioc/R/bin/R CMD check --install=check:CopyNumberPlots.install-out.txt --library=/home/biocbuild/bbs-3.20-bioc/R/site-library --timings CopyNumberPlots_1.22.0.tar.gz StartedAt: 2025-02-03 21:16:59 -0500 (Mon, 03 Feb 2025) EndedAt: 2025-02-03 21:22:42 -0500 (Mon, 03 Feb 2025) EllapsedTime: 343.4 seconds RetCode: 0 Status: OK CheckDir: CopyNumberPlots.Rcheck Warnings: 0