Package: CopyNumberPlots Version: 1.22.0 Command: chmod a+r CopyNumberPlots -R && F:\biocbuild\bbs-3.20-bioc\R\bin\R.exe CMD build --keep-empty-dirs --no-resave-data CopyNumberPlots StartedAt: 2025-02-10 18:15:25 -0500 (Mon, 10 Feb 2025) EndedAt: 2025-02-10 18:17:53 -0500 (Mon, 10 Feb 2025) EllapsedTime: 147.7 seconds RetCode: 0 Status: OK PackageFile: CopyNumberPlots_1.22.0.tar.gz PackageFileSize: 804.1 KiB