Package: CopyNumberPlots Version: 1.22.0 Command: /home/biocbuild/R/R/bin/R CMD build --keep-empty-dirs --no-resave-data CopyNumberPlots StartedAt: 2025-02-03 22:49:33 -0000 (Mon, 03 Feb 2025) EndedAt: 2025-02-03 22:51:39 -0000 (Mon, 03 Feb 2025) EllapsedTime: 126.0 seconds RetCode: 0 Status: OK PackageFile: CopyNumberPlots_1.22.0.tar.gz PackageFileSize: 1.006 MiB