Package: CopyNumberPlots Version: 1.22.0 Command: /home/biocbuild/R/R/bin/R CMD INSTALL CopyNumberPlots StartedAt: 2025-02-03 20:57:28 -0000 (Mon, 03 Feb 2025) EndedAt: 2025-02-03 20:58:22 -0000 (Mon, 03 Feb 2025) EllapsedTime: 54.5 seconds RetCode: 0 Status: OK