Package: CoverageView Version: 1.44.0 Command: rm -rf CoverageView.buildbin-libdir && mkdir CoverageView.buildbin-libdir && /Users/biocbuild/BBS/utils/build-universal.sh CoverageView_1.44.0.tar.gz /Library/Frameworks/R.framework/Resources/bin/R CoverageView.buildbin-libdir StartedAt: 2025-02-05 15:23:31 -0500 (Wed, 05 Feb 2025) EndedAt: 2025-02-05 15:24:11 -0500 (Wed, 05 Feb 2025) EllapsedTime: 39.7 seconds RetCode: 0 Status: OK PackageFile: CoverageView_1.44.0.tgz PackageFileSize: 2.959 MiB