Package: CoverageView Version: 1.44.0 Command: /Library/Frameworks/R.framework/Resources/bin/R CMD build --keep-empty-dirs --no-resave-data CoverageView StartedAt: 2025-01-30 21:38:03 -0500 (Thu, 30 Jan 2025) EndedAt: 2025-01-30 21:39:14 -0500 (Thu, 30 Jan 2025) EllapsedTime: 71.5 seconds RetCode: 0 Status: OK PackageFile: CoverageView_1.44.0.tar.gz PackageFileSize: 2.554 MiB