Package: CoverageView Version: 1.44.0 Command: /Library/Frameworks/R.framework/Resources/bin/R CMD check --install=check:CoverageView.install-out.txt --library=/Library/Frameworks/R.framework/Resources/library --no-vignettes --timings CoverageView_1.44.0.tar.gz StartedAt: 2025-02-04 16:06:26 -0500 (Tue, 04 Feb 2025) EndedAt: 2025-02-04 16:10:35 -0500 (Tue, 04 Feb 2025) EllapsedTime: 248.8 seconds RetCode: 0 Status: WARNINGS CheckDir: CoverageView.Rcheck Warnings: 1