Package: CoverageView Version: 1.44.0 Command: rm -rf CoverageView.buildbin-libdir && mkdir CoverageView.buildbin-libdir && /Users/biocbuild/BBS/utils/build-universal.sh CoverageView_1.44.0.tar.gz /Library/Frameworks/R.framework/Resources/bin/R CoverageView.buildbin-libdir StartedAt: 2025-01-31 12:35:43 -0500 (Fri, 31 Jan 2025) EndedAt: 2025-01-31 12:36:52 -0500 (Fri, 31 Jan 2025) EllapsedTime: 69.6 seconds RetCode: 0 Status: OK PackageFile: CoverageView_1.44.0.tgz PackageFileSize: 2.959 MiB