Package: CoverageView Version: 1.44.0 Command: /Library/Frameworks/R.framework/Resources/bin/R CMD build --keep-empty-dirs --no-resave-data CoverageView StartedAt: 2025-01-30 18:14:01 -0500 (Thu, 30 Jan 2025) EndedAt: 2025-01-30 18:16:21 -0500 (Thu, 30 Jan 2025) EllapsedTime: 139.5 seconds RetCode: 0 Status: OK PackageFile: CoverageView_1.44.0.tar.gz PackageFileSize: 2.554 MiB