Package: CoverageView Version: 1.44.0 Command: /home/biocbuild/bbs-3.20-bioc/R/bin/R CMD build --keep-empty-dirs --no-resave-data --md5 CoverageView StartedAt: 2025-02-03 16:59:55 -0500 (Mon, 03 Feb 2025) EndedAt: 2025-02-03 17:00:41 -0500 (Mon, 03 Feb 2025) EllapsedTime: 46.0 seconds RetCode: 0 Status: OK PackageFile: CoverageView_1.44.0.tar.gz PackageFileSize: 2.613 MiB