Package: CoverageView Version: 1.44.0 Command: /home/biocbuild/bbs-3.20-bioc/R/bin/R CMD check --install=check:CoverageView.install-out.txt --library=/home/biocbuild/bbs-3.20-bioc/R/site-library --timings CoverageView_1.44.0.tar.gz StartedAt: 2025-01-30 21:09:38 -0500 (Thu, 30 Jan 2025) EndedAt: 2025-01-30 21:13:20 -0500 (Thu, 30 Jan 2025) EllapsedTime: 222.2 seconds RetCode: 0 Status: WARNINGS CheckDir: CoverageView.Rcheck Warnings: 1