Package: CoverageView Version: 1.44.0 Command: /home/biocbuild/bbs-3.20-bioc/R/bin/R CMD INSTALL CoverageView StartedAt: 2025-01-30 15:25:26 -0500 (Thu, 30 Jan 2025) EndedAt: 2025-01-30 15:25:55 -0500 (Thu, 30 Jan 2025) EllapsedTime: 29.1 seconds RetCode: 0 Status: OK