Package: CoverageView Version: 1.44.0 Command: /home/biocbuild/R/R/bin/R CMD build --keep-empty-dirs --no-resave-data CoverageView StartedAt: 2025-02-03 22:51:56 -0000 (Mon, 03 Feb 2025) EndedAt: 2025-02-03 22:52:55 -0000 (Mon, 03 Feb 2025) EllapsedTime: 59.0 seconds RetCode: 0 Status: OK PackageFile: CoverageView_1.44.0.tar.gz PackageFileSize: 2.573 MiB