Package: CrispRVariants Version: 1.34.0 Command: chmod a+r CrispRVariants -R && F:\biocbuild\bbs-3.20-bioc\R\bin\R.exe CMD build --keep-empty-dirs --no-resave-data CrispRVariants StartedAt: 2025-02-03 18:24:54 -0500 (Mon, 03 Feb 2025) EndedAt: 2025-02-03 18:27:57 -0500 (Mon, 03 Feb 2025) EllapsedTime: 182.2 seconds RetCode: 0 Status: OK PackageFile: CrispRVariants_1.34.0.tar.gz PackageFileSize: 2.009 MiB