Package: CyTOFpower Version: 1.12.0 Command: rm -rf CyTOFpower.buildbin-libdir && mkdir CyTOFpower.buildbin-libdir && /Users/biocbuild/BBS/utils/build-universal.sh CyTOFpower_1.12.0.tar.gz /Library/Frameworks/R.framework/Resources/bin/R CyTOFpower.buildbin-libdir StartedAt: 2025-02-05 15:28:26 -0500 (Wed, 05 Feb 2025) EndedAt: 2025-02-05 15:28:33 -0500 (Wed, 05 Feb 2025) EllapsedTime: 7.7 seconds RetCode: 0 Status: OK PackageFile: CyTOFpower_1.12.0.tgz PackageFileSize: 626.3 KiB