Package: CyTOFpower Version: 1.12.0 Command: /Library/Frameworks/R.framework/Resources/bin/R CMD INSTALL CyTOFpower StartedAt: 2025-02-03 18:13:12 -0500 (Mon, 03 Feb 2025) EndedAt: 2025-02-03 18:13:19 -0500 (Mon, 03 Feb 2025) EllapsedTime: 7.0 seconds RetCode: 0 Status: OK