Package: CyTOFpower Version: 1.12.0 Command: /Library/Frameworks/R.framework/Resources/bin/R CMD build --keep-empty-dirs --no-resave-data CyTOFpower StartedAt: 2025-02-03 18:15:58 -0500 (Mon, 03 Feb 2025) EndedAt: 2025-02-03 18:16:17 -0500 (Mon, 03 Feb 2025) EllapsedTime: 19.2 seconds RetCode: 0 Status: OK PackageFile: CyTOFpower_1.12.0.tar.gz PackageFileSize: 312.1 KiB