Package: CyTOFpower Version: 1.12.0 Command: /Library/Frameworks/R.framework/Resources/bin/R CMD check --install=check:CyTOFpower.install-out.txt --library=/Library/Frameworks/R.framework/Resources/library --no-vignettes --timings CyTOFpower_1.12.0.tar.gz StartedAt: 2025-02-04 02:08:32 -0500 (Tue, 04 Feb 2025) EndedAt: 2025-02-04 02:11:18 -0500 (Tue, 04 Feb 2025) EllapsedTime: 166.2 seconds RetCode: 1 Status: ERROR CheckDir: CyTOFpower.Rcheck Warnings: NA