Package: CyTOFpower Version: 1.12.0 Command: /Library/Frameworks/R.framework/Resources/bin/R CMD INSTALL CyTOFpower StartedAt: 2025-01-30 16:44:21 -0500 (Thu, 30 Jan 2025) EndedAt: 2025-01-30 16:44:33 -0500 (Thu, 30 Jan 2025) EllapsedTime: 12.7 seconds RetCode: 0 Status: OK