Package: CyTOFpower Version: 1.12.0 Command: F:\biocbuild\bbs-3.20-bioc\R\bin\R.exe CMD INSTALL CyTOFpower StartedAt: 2025-02-03 16:26:41 -0500 (Mon, 03 Feb 2025) EndedAt: 2025-02-03 16:26:56 -0500 (Mon, 03 Feb 2025) EllapsedTime: 15.3 seconds RetCode: 0 Status: OK