Package: CyTOFpower Version: 1.12.0 Command: /home/biocbuild/R/R/bin/R CMD build --keep-empty-dirs --no-resave-data CyTOFpower StartedAt: 2025-01-30 22:58:07 -0000 (Thu, 30 Jan 2025) EndedAt: 2025-01-30 22:58:16 -0000 (Thu, 30 Jan 2025) EllapsedTime: 9.0 seconds RetCode: 0 Status: OK PackageFile: CyTOFpower_1.12.0.tar.gz PackageFileSize: 338.7 KiB