Package: CytoMDS Version: 1.2.0 Command: rm -rf CytoMDS.buildbin-libdir && mkdir CytoMDS.buildbin-libdir && /Users/biocbuild/BBS/utils/build-universal.sh CytoMDS_1.2.0.tar.gz /Library/Frameworks/R.framework/Resources/bin/R CytoMDS.buildbin-libdir StartedAt: 2025-02-01 14:33:48 -0500 (Sat, 01 Feb 2025) EndedAt: 2025-02-01 14:34:07 -0500 (Sat, 01 Feb 2025) EllapsedTime: 19.3 seconds RetCode: 0 Status: OK PackageFile: CytoMDS_1.2.0.tgz PackageFileSize: 3.621 MiB