Package: CytoMDS Version: 1.2.0 Command: /Library/Frameworks/R.framework/Resources/bin/R CMD build --keep-empty-dirs --no-resave-data CytoMDS StartedAt: 2025-01-30 21:59:38 -0500 (Thu, 30 Jan 2025) EndedAt: 2025-01-30 22:03:11 -0500 (Thu, 30 Jan 2025) EllapsedTime: 213.6 seconds RetCode: 0 Status: OK PackageFile: CytoMDS_1.2.0.tar.gz PackageFileSize: 4.938 MiB