Package: CytoMDS Version: 1.2.0 Command: rm -rf CytoMDS.buildbin-libdir && mkdir CytoMDS.buildbin-libdir && /Users/biocbuild/BBS/utils/build-universal.sh CytoMDS_1.2.0.tar.gz /Library/Frameworks/R.framework/Resources/bin/R CytoMDS.buildbin-libdir StartedAt: 2025-02-04 12:46:25 -0500 (Tue, 04 Feb 2025) EndedAt: 2025-02-04 12:47:02 -0500 (Tue, 04 Feb 2025) EllapsedTime: 36.9 seconds RetCode: 0 Status: OK PackageFile: CytoMDS_1.2.0.tgz PackageFileSize: 3.618 MiB