Package: CytoMDS Version: 1.2.0 Command: rm -rf CytoMDS.buildbin-libdir && mkdir CytoMDS.buildbin-libdir && F:\biocbuild\bbs-3.20-bioc\R\bin\R.exe CMD INSTALL --build --library=CytoMDS.buildbin-libdir CytoMDS_1.2.0.tar.gz StartedAt: 2025-02-04 08:19:00 -0500 (Tue, 04 Feb 2025) EndedAt: 2025-02-04 08:19:42 -0500 (Tue, 04 Feb 2025) EllapsedTime: 41.3 seconds RetCode: 0 Status: OK PackageFile: CytoMDS_1.2.0.zip PackageFileSize: 1.399 MiB