Package: CytoMDS Version: 1.2.0 Command: F:\biocbuild\bbs-3.20-bioc\R\bin\R.exe CMD check --no-multiarch --install=check:CytoMDS.install-out.txt --library=F:\biocbuild\bbs-3.20-bioc\R\library --no-vignettes --timings CytoMDS_1.2.0.tar.gz StartedAt: 2025-01-31 01:03:59 -0500 (Fri, 31 Jan 2025) EndedAt: 2025-01-31 01:10:44 -0500 (Fri, 31 Jan 2025) EllapsedTime: 405.0 seconds RetCode: 0 Status: OK CheckDir: CytoMDS.Rcheck Warnings: 0