Package: CytoML Version: 2.18.1 Command: /Library/Frameworks/R.framework/Resources/bin/R CMD build --keep-empty-dirs --no-resave-data CytoML StartedAt: 2025-02-03 21:52:18 -0500 (Mon, 03 Feb 2025) EndedAt: 2025-02-03 21:53:52 -0500 (Mon, 03 Feb 2025) EllapsedTime: 94.6 seconds RetCode: 0 Status: OK PackageFile: CytoML_2.18.1.tar.gz PackageFileSize: 8.566 MiB