Package: CytoML Version: 2.18.1 Command: /Library/Frameworks/R.framework/Resources/bin/R CMD check --install=check:CytoML.install-out.txt --library=/Library/Frameworks/R.framework/Resources/library --no-vignettes --timings CytoML_2.18.1.tar.gz StartedAt: 2025-02-11 16:43:29 -0500 (Tue, 11 Feb 2025) EndedAt: 2025-02-11 16:46:07 -0500 (Tue, 11 Feb 2025) EllapsedTime: 157.7 seconds RetCode: 0 Status: WARNINGS CheckDir: CytoML.Rcheck Warnings: 5