Package: CytoML Version: 2.18.1 Command: /Library/Frameworks/R.framework/Resources/bin/R CMD build --keep-empty-dirs --no-resave-data CytoML StartedAt: 2025-02-03 18:16:39 -0500 (Mon, 03 Feb 2025) EndedAt: 2025-02-03 18:19:58 -0500 (Mon, 03 Feb 2025) EllapsedTime: 199.3 seconds RetCode: 0 Status: OK PackageFile: CytoML_2.18.1.tar.gz PackageFileSize: 8.565 MiB