Package: CytoML Version: 2.18.1 Command: /home/biocbuild/bbs-3.20-bioc/R/bin/R CMD check --install=check:CytoML.install-out.txt --library=/home/biocbuild/bbs-3.20-bioc/R/site-library --timings CytoML_2.18.1.tar.gz StartedAt: 2025-02-03 21:30:53 -0500 (Mon, 03 Feb 2025) EndedAt: 2025-02-03 21:33:43 -0500 (Mon, 03 Feb 2025) EllapsedTime: 170.1 seconds RetCode: 0 Status: WARNINGS CheckDir: CytoML.Rcheck Warnings: 5